BEGIN:VCALENDAR
PRODID:-//github.com/rianjs/ical.net//NONSGML ical.net 4.0//EN
VERSION:2.0
BEGIN:VEVENT
DESCRIPTION:https://www.fabege.se/om-fabege/investerare/kalender/2024/dela
 rsrapport-jan-mar-2024/
DTEND:20240425T053000Z
DTSTAMP:20260422T164901Z
DTSTART:20240425T053000Z
SEQUENCE:0
SUMMARY:Delårsrapport jan - mar 2024
UID:d3db40af-787c-4418-9184-fe8b1d053b89
END:VEVENT
END:VCALENDAR
