BEGIN:VCALENDAR
PRODID:-//github.com/rianjs/ical.net//NONSGML ical.net 4.0//EN
VERSION:2.0
BEGIN:VEVENT
DESCRIPTION:https://www.fabege.se/om-fabege/investerare/kalender/2024/citi
 s-2024-global-property-ceo-conference-miami/
DTEND:20240305T230000Z
DTSTAMP:20260420T113303Z
DTSTART:20240302T230000Z
SEQUENCE:0
SUMMARY:Citi's 2024 Global Property CEO Conference\, Miami
UID:b5a7e1bb-c654-423a-99a8-300c91017b47
END:VEVENT
END:VCALENDAR
