BEGIN:VCALENDAR
PRODID:-//github.com/rianjs/ical.net//NONSGML ical.net 4.0//EN
VERSION:2.0
BEGIN:VEVENT
DESCRIPTION:https://www.fabege.se/om-fabege/investerare/kalender/2019/boks
 lutskommunike-2018/
DTEND:20190205T200000Z
DTSTAMP:20260423T030233Z
DTSTART:20190205T110000Z
SEQUENCE:0
SUMMARY:Bokslutskommuniké 2018
UID:dde4a08a-62a2-4137-a9ae-5347500cbd1d
END:VEVENT
END:VCALENDAR
