BEGIN:VCALENDAR
PRODID:-//github.com/rianjs/ical.net//NONSGML ical.net 4.0//EN
VERSION:2.0
BEGIN:VEVENT
DESCRIPTION:https://www.fabege.se/om-fabege/investerare/kalender/2025/dela
 rsrapport-jan--jun-2025/
DTEND:20250707T053000Z
DTSTAMP:20260425T155449Z
DTSTART:20250707T053000Z
SEQUENCE:0
SUMMARY:Delårsrapport Jan-Jun 2025
UID:4317824d-4b6d-4700-839f-3b3821f60d4b
END:VEVENT
END:VCALENDAR
