BEGIN:VCALENDAR
PRODID:-//github.com/rianjs/ical.net//NONSGML ical.net 4.0//EN
VERSION:2.0
BEGIN:VEVENT
DESCRIPTION:https://www.fabege.se/om-fabege/investerare/kalender/2020/dela
 rsrapport-jan-dec-2019/
DTEND:20200205T110000Z
DTSTAMP:20260423T133503Z
DTSTART:20200205T110000Z
SEQUENCE:0
SUMMARY:Delårsrapport jan-dec 2019
UID:a800879b-0f5a-44a6-9cf7-a7050175692b
END:VEVENT
END:VCALENDAR
