BEGIN:VCALENDAR
PRODID:-//github.com/rianjs/ical.net//NONSGML ical.net 4.0//EN
VERSION:2.0
BEGIN:VEVENT
DESCRIPTION:https://www.fabege.se/om-fabege/investerare/kalender/2019/dnb-
 nor-investerarkonferens-oslo/
DTEND:20190919T150000Z
DTSTAMP:20260422T194855Z
DTSTART:20190919T060000Z
SEQUENCE:0
SUMMARY:DNB Nor Investerarkonferens\, Oslo
UID:850c78b8-5a75-4ab0-ad46-31045691c57b
END:VEVENT
END:VCALENDAR
