BEGIN:VCALENDAR
PRODID:-//github.com/rianjs/ical.net//NONSGML ical.net 4.0//EN
VERSION:2.0
BEGIN:VEVENT
DESCRIPTION:https://www.fabege.se/om-fabege/investerare/kalender/2019/abgs
 c-nordic-opportunities-london/
DTEND:20191129T160000Z
DTSTAMP:20260423T071626Z
DTSTART:20191128T070000Z
SEQUENCE:0
SUMMARY:ABGSC Nordic Opportunities\, London
UID:7d534e28-732e-4c98-9ff0-f8c0448ad0ae
END:VEVENT
END:VCALENDAR
