BEGIN:VCALENDAR
PRODID:-//github.com/rianjs/ical.net//NONSGML ical.net 4.0//EN
VERSION:2.0
BEGIN:VEVENT
DESCRIPTION:https://www.fabege.se/om-fabege/investerare/kalender/2020/arss
 tamma-2020/
DTEND:20200402T150000Z
DTSTAMP:20260419T191848Z
DTSTART:20200402T130000Z
SEQUENCE:0
SUMMARY:Årsstämma 2020
UID:dbcd3071-3711-4b13-84f9-d53a199013e4
END:VEVENT
END:VCALENDAR
