BEGIN:VCALENDAR
PRODID:-//github.com/rianjs/ical.net//NONSGML ical.net 4.0//EN
VERSION:2.0
BEGIN:VEVENT
DESCRIPTION:https://www.fabege.se/om-fabege/investerare/kalender/2021/dela
 rsrapport-jan-mar-2021/
DTEND:20210426T053000Z
DTSTAMP:20260422T002105Z
DTSTART:20210426T053000Z
SEQUENCE:0
SUMMARY:Delårsrapport jan-mar 2021
UID:c0e0fcb5-c968-4643-a03b-218fa6c55799
END:VEVENT
END:VCALENDAR
