BEGIN:VCALENDAR
PRODID:-//github.com/rianjs/ical.net//NONSGML ical.net 4.0//EN
VERSION:2.0
BEGIN:VEVENT
DESCRIPTION:https://www.fabege.se/om-fabege/investerare/kalender/2021/dela
 rsrapport-jan-jun-2021/
DTEND:20210709T053000Z
DTSTAMP:20260424T131940Z
DTSTART:20210709T053000Z
SEQUENCE:0
SUMMARY:Delårsrapport jan-jun 2021
UID:14533532-a35d-4f41-932c-3cbda47a0cc8
END:VEVENT
END:VCALENDAR
