BEGIN:VCALENDAR
PRODID:-//github.com/rianjs/ical.net//NONSGML ical.net 4.0//EN
VERSION:2.0
BEGIN:VEVENT
DESCRIPTION:https://www.fabege.se/om-fabege/investerare/kalender/2023/boks
 lutskommunike-2022/
DTEND:20230206T110000Z
DTSTAMP:20260420T231811Z
DTSTART:20230206T110000Z
SEQUENCE:0
SUMMARY:Bokslutskommuniké 2022
UID:60412e2a-6b02-4507-ab00-f60af690a3c2
END:VEVENT
END:VCALENDAR
