BEGIN:VCALENDAR
PRODID:-//github.com/rianjs/ical.net//NONSGML ical.net 4.0//EN
VERSION:2.0
BEGIN:VEVENT
DESCRIPTION:https://www.fabege.se/om-fabege/investerare/kalender/2023/dela
 rsrapport-1-jan--30-sep-2023/
DTEND:20231019T053000Z
DTSTAMP:20260420T145910Z
DTSTART:20231019T053000Z
SEQUENCE:0
SUMMARY:Delårsrapport jan – sep 2023
UID:fc6d4969-adfa-4849-b733-cfb302a2a933
END:VEVENT
END:VCALENDAR
