BEGIN:VCALENDAR
PRODID:-//github.com/rianjs/ical.net//NONSGML ical.net 4.0//EN
VERSION:2.0
BEGIN:VEVENT
DESCRIPTION:https://www.fabege.se/en/about-fabege/investors/calendar/2023/
 interim-report-jan-sep-2023/
DTEND:20231019T053000Z
DTSTAMP:20260419T151154Z
DTSTART:20231019T053000Z
SEQUENCE:0
SUMMARY:Interim Report Jan-Sep 2023
UID:4e4c90d6-f798-42b5-8e0a-7bd993773bb2
END:VEVENT
END:VCALENDAR
